{"text_format":"1","workbook":"xlsx","n_sheets":2,"sheets":["Invoerblad","Uitslagformulier"],"not_rendered":{"charts":0,"images":1,"macros":0,"external_links":0,"defined_names":0,"comments":0,"pivot_tables":0},"unopened":[],"bounds":{"document_bytes":16777216,"sheet_cells":100000,"rows_first":2000,"rows_last":500,"rows_between":2000,"halvings":0,"cell_chars":16384,"cell_head_chars":4096},"cells_cut":0,"cells_raw":0,"read":"whole","date_system":"1900"}

{"sheet":"Invoerblad","index":0,"n_rows":43,"n_cols":40,"rows_kept":43,"cut":false,"hidden":false,"merged":[[1,3,1,4],[1,5,1,8],[2,5,2,8],[3,5,3,8],[4,5,4,8],[2,2,2,4],[3,2,3,4],[4,2,4,4],[25,14,25,16],[6,1,6,4],[7,0,7,3],[14,14,14,16],[19,14,19,16],[7,4,7,8],[9,7,9,10]]}
[]
[null,null,null,"Voorronde PK:"]
[null,null,"Data:",null,null,null,null,null,null,null,null,null,null,null,null,null,null,null,null,null,null,null,null,null,null,null,null,null,null,null,null,null,null,null,null,null,null,null,null," "]
[null,null,"Locatie:"]
[null,null,"Wedstrijdleider:"]
[]
[]
["NAMEN INVULLEN VOLGORDE UITNODIGING",null,null,null,"UITSLUITEND DE GELE VLAKKEN INVULLEN !"]
[]
["Bondsnr","Naam","Vereniging",null,null,"Moy.","O/NO","Partijlengte en moy. grens"]
[null,null,null,null,null,null,null,"Te maken",null,null,null,null,1,{"$f":"IF(D18>0,1,FALSE)","v":1},{"$f":"IF(D24>0,1,FALSE)","v":1},{"$f":"IF(D29>0,1,FALSE)","v":1},{"$f":"IF(D35>0,1,FALSE)","v":1},{"$f":"SUM(N11:Q11)","v":4},{"$f":"PRODUCT(I11,R11)","v":4}]
[null,null,null,null,null,null,null,null,null,null,null,null,2,{"$f":"IF(D19>0,1,FALSE)","v":1},{"$f":"IF(D21>0,1,FALSE)","v":1},{"$f":"IF(D30>0,1,FALSE)","v":1},{"$f":"IF(D32>0,1,FALSE)","v":1},{"$f":"SUM(N12:Q12)","v":4},{"$f":"PRODUCT(I11,R12)","v":4}]
[null,null,null,null,null,null,null,"Moy. Gr.",null,"tot",null,null,3,{"$f":"IF(D22>0,1,FALSE)","v":1},{"$f":"IF(D25>0,1,FALSE)","v":1},{"$f":"IF(D33>0,1,FALSE)","v":1},{"$f":"IF(D36>0,1,FALSE)","v":1},{"$f":"SUM(N13:Q13)","v":4},{"$f":"PRODUCT(I11,R13)","v":4}]
[]
[null,null,null,null,null,null,null,null,null,null,null,null,null,null,"partij moyenne"]
["Wedstrijden",null,null,null,null,null,null,null,null,null,null,null,1,{"$f":"IF(G18>0,F18,0)","v":0},{"$f":"IF(G24>0,F24,0)","v":0},{"$f":"IF(G29>0,F29,0)","v":0},{"$f":"IF(G35>0,F35,0)","v":0},{"$f":"MAX(N16:Q16)","v":0}]
[null,null,"Car.","Brt.","HS","Moy.","Pnt.",null,null,null,null,null,2,{"$f":"IF(G19>0,F19,0)","v":0},{"$f":"IF(G21>0,F21,0)","v":0},{"$f":"IF(G30>0,F30,0)","v":0},{"$f":"IF(G32>0,F32,0)","v":0},{"$f":"MAX(N17:Q17)","v":0}]
[null,{"$f":"B11","v":0}," "," "," ",{"$f":"C18/D18","v":{"$error":"#VALUE!"}},{"$f":"V18","v":0},null,null,null,null,null,3,{"$f":"IF(G22>0,F22,0)","v":0},{"$f":"IF(G25>0,F25,0)","v":0},{"$f":"IF(G33>0,F33,0)","v":0},{"$f":"IF(G36>0,F36,0)","v":0},{"$f":"MAX(N18:Q18)","v":0},null,{"$f":"IF(C18=I11,1,0)","v":0},{"$f":"IF(C18>C19,1,0)","v":0},{"$f":"SUM(T18:U18)","v":0},null,1,"-",2]
[null,{"$f":"B12","v":0}," ",{"$f":"D18","v":" "},null,{"$f":"C19/D19","v":{"$error":"#VALUE!"}},{"$f":"V19","v":0},null,null,null,null,null,null,null,null,null,null,null,null,{"$f":"IF(C19=I11,1,0)","v":0},{"$f":"IF(C19>C18,1,0)","v":0},{"$f":"SUM(T19:U19)","v":0},null,2,"-",3]
[null,null,null,null,null,null,null,null,null,null,null,null,null,null,"partijen gewonnen",null,null,null,null,null,null,null,null,1,"-",3]
[null,{"$f":"B12","v":0}," "," ",null,{"$f":"C21/D21","v":{"$error":"#VALUE!"}},{"$f":"V21","v":0},null,null,null,null,null,null,null,null,null,null,null,null,{"$f":"IF(C21=I11,1,0)","v":0},{"$f":"IF(C21>C22,1,0)","v":0},{"$f":"SUM(T21:U21)","v":0},null,1,"-",2]
[null,{"$f":"B13","v":0}," ",{"$f":"D21","v":" "},null,{"$f":"C22/D22","v":{"$error":"#VALUE!"}},{"$f":"V22","v":0},null,null,null,null,null,1,{"$f":"IF(G18>1,1,0)","v":0},{"$f":"IF(G24>1,1,0)","v":0},{"$f":"IF(G29>1,1,0)","v":0},{"$f":"IF(G35>1,1,0)","v":0},{"$f":"SUM(N22:Q22)","v":0},null,{"$f":"IF(C22=I11,1,0)","v":0},{"$f":"IF(C22>C21,1,0)","v":0},0,null,2,"-",3]
[null,null,null,null,null,null,null,null,null,null,null,null,2,{"$f":"IF(G19>1,1,0)","v":0},{"$f":"IF(G21>1,1,0)","v":0},{"$f":"IF(G30>1,1,0)","v":0},{"$f":"IF(G32>1,1,0)","v":0},{"$f":"SUM(N23:Q23)","v":0},null,null,null,null,null,1,"-",3]
[null,{"$f":"B11","v":0}," "," ",null,{"$f":"C24/D24","v":{"$error":"#VALUE!"}},{"$f":"V24","v":0},null,null,null,null,null,3,{"$f":"IF(G22>1,1,0)","v":0},{"$f":"IF(G25>1,1,0)","v":0},{"$f":"IF(G33>1,1,0)","v":0},{"$f":"IF(G36>1,1,0)","v":0},{"$f":"SUM(N24:Q24)","v":0},null,{"$f":"IF(C24=I11,1,0)","v":0},{"$f":"IF(C24>C25,1,0)","v":0},0]
[null,{"$f":"B13","v":0}," ",{"$f":"D24","v":" "},null,{"$f":"C25/D25","v":{"$error":"#VALUE!"}},{"$f":"V25","v":0},null,null,null,null,null,null,null,null,null,null,null,null,{"$f":"IF(C25=I11,1,0)","v":0},{"$f":"IF(C25>C24,1,0)","v":0},0]
[null,null,null,null,null,null,null,null,null,null,null,null,null,null,"partijen gelijk"]
[]
[null,null,"Car.","Brt.","HS","Moy.","Pnt.",null,null,null,null,null,1,{"$f":"IF(G18=1,1,0)","v":0},{"$f":"IF(G24=1,1,0)","v":0},{"$f":"IF(G29=1,1,0)","v":0},{"$f":"IF(G29=1,1,0)","v":0},{"$f":"SUM(N28:Q28)","v":0}]
[null,{"$f":"B11","v":0}," "," ",null,{"$f":"C29/D29","v":{"$error":"#VALUE!"}},{"$f":"V29","v":0},null,null,null,null,null,2,{"$f":"IF(G19=1,1,0)","v":0},{"$f":"IF(G21=1,1,0)","v":0},{"$f":"IF(G30=1,1,0)","v":0},{"$f":"IF(G32=1,1,0)","v":0},{"$f":"SUM(N29:Q29)","v":0},null,{"$f":"IF(C29=I11,1,0)","v":0},{"$f":"IF(C29>C30,1,0)","v":0},0]
[null,{"$f":"B12","v":0}," ",{"$f":"D29","v":" "},null,{"$f":"C30/D30","v":{"$error":"#VALUE!"}},{"$f":"V30","v":0},null,null,null,null,null,3,{"$f":"IF(G22=1,1,0)","v":0},{"$f":"IF(G25=1,1,0)","v":0},{"$f":"IF(G33=1,1,0)","v":0},{"$f":"IF(G36=1,1,0)","v":0},{"$f":"SUM(N30:Q30)","v":0},null,{"$f":"IF(C30=I11,1,0)","v":0},{"$f":"IF(C30>C29,1,0)","v":0},0]
[]
[null,{"$f":"B12","v":0}," "," ",null,{"$f":"C32/D32","v":{"$error":"#VALUE!"}},{"$f":"V32","v":0},null,null,null,null,null,null,null,null,null,null,null,null,{"$f":"IF(C32=I11,1,0)","v":0},{"$f":"IF(C32>C33,1,0)","v":0},0]
[null,{"$f":"B13","v":0}," ",{"$f":"D32","v":" "},null,{"$f":"C33/D33","v":{"$error":"#VALUE!"}},{"$f":"V33","v":0},null,null,null,null,null,null,null,null,null,null,null,null,{"$f":"IF(C33=I11,1,0)","v":0},{"$f":"IF(C33>C32,1,0)","v":0},0]
[]
[null,{"$f":"B11","v":0}," ","  ",null,{"$f":"C35/D35","v":{"$error":"#VALUE!"}},{"$f":"V35","v":0},null,null,null,null,null,null,null,null,null,null,null,null,{"$f":"IF(C35=I11,1,0)","v":0},{"$f":"IF(C35>C36,1,0)","v":0},0]
[null,{"$f":"B13","v":0}," ",{"$f":"D35","v":"  "},null,{"$f":"C36/D36","v":{"$error":"#VALUE!"}},{"$f":"V36","v":0},null,null,null,null,null,null,null,null,null,null,null,null,{"$f":"IF(C36=I11,1,0)","v":0},{"$f":"IF(C36>C35,1,0)","v":0},0]
[]
[]
["Stand"]
[null,null,"Car.","Brt.","HS","Moy.","Pnt."]
[null,{"$f":"B11","v":0},{"$f":"SUM(C18,C24,C29,C35)","v":0},{"$f":"SUM(D18,D24,D29,D35)","v":0},{"$f":"MAX(E18,E24,E29,E35)","v":0},{"$f":"C41/D41","v":{"$error":"#DIV/0!"}},{"$f":"SUM(G18,G24,G29,G35)","v":0}]
[null,{"$f":"B12","v":0},{"$f":"SUM(C19,C21,C30,C32)","v":0},{"$f":"SUM(D19,D21,D30,D32)","v":0},{"$f":"MAX(E19,E21,E30,E32)","v":0},{"$f":"C42/D42","v":{"$error":"#DIV/0!"}},{"$f":"SUM(G19,G21,G30,G32)","v":0}]
[null,{"$f":"B13","v":0},{"$f":"SUM(C22,C25,C33,C36)","v":0},{"$f":"SUM(D22,D25,D33,D36)","v":0},{"$f":"MAX(E22,E25,E33,E36)","v":0},{"$f":"C43/D43","v":{"$error":"#DIV/0!"}},{"$f":"SUM(G22,G25,G33,G36)","v":0}]

{"sheet":"Uitslagformulier","index":1,"n_rows":95,"n_cols":10,"rows_kept":95,"cut":false,"hidden":false,"merged":[[34,7,34,8],[33,7,33,8],[19,4,19,7],[30,7,30,8],[26,7,26,8],[32,7,32,8],[31,7,31,8],[27,7,27,8],[28,7,28,8],[29,7,29,8],[18,0,18,3],[18,4,18,6],[19,0,19,3],[1,1,1,4],[1,5,1,9],[9,7,9,9],[10,7,10,9],[12,0,12,9],[13,0,13,8],[14,0,14,9],[15,0,15,9],[16,0,16,9],[9,3,9,6],[10,3,10,6],[21,0,21,3],[21,4,21,6],[21,7,21,9],[22,0,22,3],[22,4,22,6],[22,7,25,9],[23,0,23,3],[23,4,23,6],[24,0,24,3],[24,4,24,6],[25,0,25,3],[25,4,25,6]]}
[]
[null,"Uitslagformulier voorronden ",null,null,null,{"$f":"Invoerblad!F2","v":0}]
[]
[null,"Bondsnr.","Naam","Gew.","Remise","Carb.","Brt.","HS.","Pnt.","Moyenne"]
[null,null,null," "," "]
[1,{"$f":"Invoerblad!A11","v":0},{"$f":"Invoerblad!B11","v":0},{"$f":"Invoerblad!R22","v":0},{"$f":"Invoerblad!R28","v":0},{"$f":"Invoerblad!C41","v":0},{"$f":"Invoerblad!D41","v":0},{"$f":"Invoerblad!E41","v":0},{"$f":"Invoerblad!G41","v":0},{"$f":"Invoerblad!F41","v":{"$error":"#DIV/0!"}}]
[2,{"$f":"Invoerblad!A12","v":0},{"$f":"Invoerblad!B12","v":0},{"$f":"Invoerblad!R23","v":0},{"$f":"Invoerblad!R29","v":0},{"$f":"Invoerblad!C42","v":0},{"$f":"Invoerblad!D42","v":0},{"$f":"Invoerblad!E42","v":0},{"$f":"Invoerblad!G42","v":0},{"$f":"Invoerblad!F42","v":{"$error":"#DIV/0!"}}]
[3,{"$f":"Invoerblad!A13","v":0},{"$f":"Invoerblad!B13","v":0},{"$f":"Invoerblad!R24","v":0},{"$f":"Invoerblad!R30","v":0},{"$f":"Invoerblad!C43","v":0},{"$f":"Invoerblad!D43","v":0},{"$f":"Invoerblad!E43","v":0},{"$f":"Invoerblad!G43","v":0},{"$f":"Invoerblad!F43","v":{"$error":"#DIV/0!"}}]
[]
[null,null,null,"Naam vereniging",null,null,null,"Datum"]
[null,null,null,{"$f":"Invoerblad!F4","v":0},null,null,null,{"$f":"TODAY()","v":"2023-11-14"}]
[]
["DIT FORMULIER DUIDELIJK INGEVULD EN VOORZIEN VAN DE HANDTEKENING "]
[]
["VAN EEN LID VAN DE ORGANISERENDE VERENIGING           BINNEN 3 DAGEN "]
[]
["NA AFLOOP VAN DE VOORWEDSTRIJDEN TOEZENDEN OF MAILEN AAN:  "]
["﻿ "]
["Met vriendelijke groet"]
["Wedstrijdleider PK  Libre en Bandstoten"]
[]
["Johan Jansink",null,null,null,null,null,null,"handtekening:"]
["Veemarkt 11",null,null,null,null,null,null,{"$f":"Invoerblad!F5","v":0}]
["7121 AH  Aalten"]
["Tel: 0543-472292 / 06-40263789"]
["j.jansink2016@gmail.com"]
[]
[]
[]
[]
[]
[]
[]
[]
[]
[]
[]
[]
[]
[]
[]
[]
[]
[]
[]
[]
[]
[]
[]
[]
[]
[]
[]
[]
[]
[]
[]
[]
[]
[]
[]
[]
[]
[]
[]
[]
[]
[]
[]
[]
[]
[]
[]
[]
[]
[]
[]
[]
[]
[]
[]
[]
[]
[]
[]
[]
[]
[]
[]
[]
[]
[]
[]
[]
[null,"made by Marco Ubbink"]